BEGIN:VCALENDAR
VERSION:2.0
PRODID:-//The Zimbabwe Institution of Engineers - ECPv6.15.20//NONSGML v1.0//EN
CALSCALE:GREGORIAN
METHOD:PUBLISH
X-ORIGINAL-URL:https://www.zie.co.zw
X-WR-CALDESC:Events for The Zimbabwe Institution of Engineers
REFRESH-INTERVAL;VALUE=DURATION:PT1H
X-Robots-Tag:noindex
X-PUBLISHED-TTL:PT1H
BEGIN:VTIMEZONE
TZID:Africa/Harare
BEGIN:STANDARD
TZOFFSETFROM:+0200
TZOFFSETTO:+0200
TZNAME:CAT
DTSTART:20220101T000000
END:STANDARD
END:VTIMEZONE
BEGIN:VEVENT
DTSTART;TZID=Africa/Harare:20230131T084500
DTEND;TZID=Africa/Harare:20230131T150000
DTSTAMP:20260424T052549
CREATED:20230118T121030Z
LAST-MODIFIED:20230318T122841Z
UID:525-1675154700-1675177200@www.zie.co.zw
SUMMARY:SBS Tanks Benefits
DESCRIPTION:Facilitator : Head of Department – SADC Exports
URL:https://www.zie.co.zw/event/sbs-tanks-benefits/
LOCATION:Mashonaland
CATEGORIES:General Events
END:VEVENT
END:VCALENDAR