BEGIN:VCALENDAR
VERSION:2.0
PRODID:-//The Zimbabwe Institution of Engineers - ECPv6.15.20//NONSGML v1.0//EN
CALSCALE:GREGORIAN
METHOD:PUBLISH
X-WR-CALNAME:The Zimbabwe Institution of Engineers
X-ORIGINAL-URL:https://www.zie.co.zw
X-WR-CALDESC:Events for The Zimbabwe Institution of Engineers
REFRESH-INTERVAL;VALUE=DURATION:PT1H
X-Robots-Tag:noindex
X-PUBLISHED-TTL:PT1H
BEGIN:VTIMEZONE
TZID:Africa/Harare
BEGIN:STANDARD
TZOFFSETFROM:+0200
TZOFFSETTO:+0200
TZNAME:CAT
DTSTART:20240101T000000
END:STANDARD
END:VTIMEZONE
BEGIN:VEVENT
DTSTART;TZID=Africa/Harare:20250613T170000
DTEND;TZID=Africa/Harare:20250613T230000
DTSTAMP:20260421T120805
CREATED:20250509T130600Z
LAST-MODIFIED:20250509T130600Z
UID:689-1749834000-1749855600@www.zie.co.zw
SUMMARY:ZIE Annual Dinner and Awards Ceremony
DESCRIPTION:
URL:https://www.zie.co.zw/event/zie-annual-dinner-and-awards-ceremony-2/
LOCATION:Cresta Lodge Msasa\, Sango Conference Centre\, Cnr Robert Mugabe and Samora Machel\, Harare\, Mashonaland\, 00000\, Zimbabwe
CATEGORIES:General Events
ATTACH;FMTTYPE=image/jpeg:https://www.zie.co.zw/wp-content/uploads/2025/05/ZIE-Annual-Dinner-Awards-Ceremony.jpeg
END:VEVENT
END:VCALENDAR